


BEGIN:VCALENDAR
VERSION:2.0
PRODID:-//Margin Manager - ECPv6.3.2//NONSGML v1.0//EN
CALSCALE:GREGORIAN
METHOD:PUBLISH
X-ORIGINAL-URL:https://www.marginmanager.com
X-WR-CALDESC:Events for Margin Manager
REFRESH-INTERVAL;VALUE=DURATION:PT1H
X-Robots-Tag:noindex
X-PUBLISHED-TTL:PT1H
BEGIN:VTIMEZONE
TZID:UTC
BEGIN:STANDARD
TZOFFSETFROM:+0000
TZOFFSETTO:+0000
TZNAME:UTC
DTSTART:20140101T000000
END:STANDARD
END:VTIMEZONE
BEGIN:VEVENT
DTSTART;TZID=UTC:20140305T104500
DTEND;TZID=UTC:20140305T114000
DTSTAMP:20260419T200158
CREATED:20140205T104548Z
LAST-MODIFIED:20140228T184608Z
UID:1221-1394016300-1394019600@www.marginmanager.com
SUMMARY:CIH Presentation at Western United Dairymen Convention
DESCRIPTION:Business Development Manager\, Tom Brooker presents\, “A Case Study on Margin Managment.”
URL:https://www.marginmanager.com/event/tom-brooker-presentation-at-western-united-dairymen-convention/
LOCATION:AZ
END:VEVENT
END:VCALENDAR