


BEGIN:VCALENDAR
VERSION:2.0
PRODID:-//Margin Manager - ECPv6.3.2//NONSGML v1.0//EN
CALSCALE:GREGORIAN
METHOD:PUBLISH
X-ORIGINAL-URL:https://www.marginmanager.com
X-WR-CALDESC:Events for Margin Manager
REFRESH-INTERVAL;VALUE=DURATION:PT1H
X-Robots-Tag:noindex
X-PUBLISHED-TTL:PT1H
BEGIN:VTIMEZONE
TZID:UTC
BEGIN:STANDARD
TZOFFSETFROM:+0000
TZOFFSETTO:+0000
TZNAME:UTC
DTSTART:20140101T000000
END:STANDARD
END:VTIMEZONE
BEGIN:VEVENT
DTSTART;VALUE=DATE:20140325
DTEND;VALUE=DATE:20140328
DTSTAMP:20260419T212833
CREATED:20140305T201956Z
LAST-MODIFIED:20140305T202106Z
UID:1230-1395705600-1395964799@www.marginmanager.com
SUMMARY:CIH Booth at Central Plains Dairy Expo
DESCRIPTION:CIH will be manning a booth at the event\, introducing dairy producers to the Dairy Margin Management Service.
URL:https://www.marginmanager.com/event/central-plains-dairy-expo/
LOCATION:AZ
END:VEVENT
END:VCALENDAR