


BEGIN:VCALENDAR
VERSION:2.0
PRODID:-//Margin Manager - ECPv6.3.2//NONSGML v1.0//EN
CALSCALE:GREGORIAN
METHOD:PUBLISH
X-WR-CALNAME:Margin Manager
X-ORIGINAL-URL:https://www.marginmanager.com
X-WR-CALDESC:Events for Margin Manager
REFRESH-INTERVAL;VALUE=DURATION:PT1H
X-Robots-Tag:noindex
X-PUBLISHED-TTL:PT1H
BEGIN:VTIMEZONE
TZID:UTC
BEGIN:STANDARD
TZOFFSETFROM:+0000
TZOFFSETTO:+0000
TZNAME:UTC
DTSTART:20140101T000000
END:STANDARD
END:VTIMEZONE
BEGIN:VEVENT
DTSTART;TZID=UTC:20140401T083000
DTEND;TZID=UTC:20140402T163000
DTSTAMP:20260419T183737
CREATED:20140305T204014Z
LAST-MODIFIED:20140305T204133Z
UID:1231-1396341000-1396456200@www.marginmanager.com
SUMMARY:Beef Margin Seminar (Kansas)
DESCRIPTION:The CIH Beef Margin seminar is designed to help beef producers identify and protect forward profit margins.
URL:https://www.marginmanager.com/event/beef-margin-seminar-kansas/
LOCATION:AZ
END:VEVENT
END:VCALENDAR