


BEGIN:VCALENDAR
VERSION:2.0
PRODID:-//Margin Manager - ECPv6.3.2//NONSGML v1.0//EN
CALSCALE:GREGORIAN
METHOD:PUBLISH
X-WR-CALNAME:Margin Manager
X-ORIGINAL-URL:https://www.marginmanager.com
X-WR-CALDESC:Events for Margin Manager
REFRESH-INTERVAL;VALUE=DURATION:PT1H
X-Robots-Tag:noindex
X-PUBLISHED-TTL:PT1H
BEGIN:VTIMEZONE
TZID:UTC
BEGIN:STANDARD
TZOFFSETFROM:+0000
TZOFFSETTO:+0000
TZNAME:UTC
DTSTART:20140101T000000
END:STANDARD
END:VTIMEZONE
BEGIN:VEVENT
DTSTART;TZID=UTC:20140424T083000
DTEND;TZID=UTC:20140425T163000
DTSTAMP:20260419T183819
CREATED:20140305T211119Z
LAST-MODIFIED:20140305T211119Z
UID:1232-1398328200-1398443400@www.marginmanager.com
SUMMARY:Dairy Lender Seminar (Private\, Wisconsin)
DESCRIPTION:This program is designed to help bankers better understand the risk associated with lending to agricultural producers looking to protect profit margins in their business.
URL:https://www.marginmanager.com/event/dairy-lender-seminar-private-wisconsin/
LOCATION:AZ
END:VEVENT
END:VCALENDAR