


BEGIN:VCALENDAR
VERSION:2.0
PRODID:-//Margin Manager - ECPv6.3.2//NONSGML v1.0//EN
CALSCALE:GREGORIAN
METHOD:PUBLISH
X-ORIGINAL-URL:https://www.marginmanager.com
X-WR-CALDESC:Events for Margin Manager
REFRESH-INTERVAL;VALUE=DURATION:PT1H
X-Robots-Tag:noindex
X-PUBLISHED-TTL:PT1H
BEGIN:VTIMEZONE
TZID:UTC
BEGIN:STANDARD
TZOFFSETFROM:+0000
TZOFFSETTO:+0000
TZNAME:UTC
DTSTART:20140101T000000
END:STANDARD
END:VTIMEZONE
BEGIN:VEVENT
DTSTART;TZID=UTC:20140430T083000
DTEND;TZID=UTC:20140501T163000
DTSTAMP:20260419T171213
CREATED:20140320T205541Z
LAST-MODIFIED:20140320T205654Z
UID:1243-1398846600-1398961800@www.marginmanager.com
SUMMARY:Private Lender Training (Omaha)
DESCRIPTION:This program is designed to help bankers better understand the risk associated with lending to agricultural producers looking to protect profit margins in their business.
URL:https://www.marginmanager.com/event/private-lender-training/
LOCATION:Unnamed Venue\, Omaha
END:VEVENT
END:VCALENDAR