


BEGIN:VCALENDAR
VERSION:2.0
PRODID:-//Margin Manager - ECPv6.3.2//NONSGML v1.0//EN
CALSCALE:GREGORIAN
METHOD:PUBLISH
X-WR-CALNAME:Margin Manager
X-ORIGINAL-URL:https://www.marginmanager.com
X-WR-CALDESC:Events for Margin Manager
REFRESH-INTERVAL;VALUE=DURATION:PT1H
X-Robots-Tag:noindex
X-PUBLISHED-TTL:PT1H
BEGIN:VTIMEZONE
TZID:UTC
BEGIN:STANDARD
TZOFFSETFROM:+0000
TZOFFSETTO:+0000
TZNAME:UTC
DTSTART:20140101T000000
END:STANDARD
END:VTIMEZONE
BEGIN:VEVENT
DTSTART;VALUE=DATE:20140604
DTEND;VALUE=DATE:20140607
DTSTAMP:20260419T152440
CREATED:20140305T215645Z
LAST-MODIFIED:20140305T215645Z
UID:1236-1401840000-1402099199@www.marginmanager.com
SUMMARY:CIH at World Pork Expo
DESCRIPTION:CIH reps will be attending and manning a booth to introduce hog producers to the Hog Margin Management Service.
URL:https://www.marginmanager.com/event/cih-at-world-pork-expo/
LOCATION:AZ
END:VEVENT
BEGIN:VEVENT
DTSTART;TZID=UTC:20140604T083000
DTEND;TZID=UTC:20140605T163000
DTSTAMP:20260419T152440
CREATED:20140305T215412Z
LAST-MODIFIED:20140305T215739Z
UID:1235-1401870600-1401985800@www.marginmanager.com
SUMMARY:Dairy Margin Seminar (Chicago)
DESCRIPTION:This program is designed to help dairy producers identify and protect forward profit margins.
URL:https://www.marginmanager.com/event/dairy-margin-management-seminar/
LOCATION:AZ
END:VEVENT
END:VCALENDAR