


BEGIN:VCALENDAR
VERSION:2.0
PRODID:-//Margin Manager - ECPv6.3.2//NONSGML v1.0//EN
CALSCALE:GREGORIAN
METHOD:PUBLISH
X-WR-CALNAME:Margin Manager
X-ORIGINAL-URL:https://www.marginmanager.com
X-WR-CALDESC:Events for Margin Manager
REFRESH-INTERVAL;VALUE=DURATION:PT1H
X-Robots-Tag:noindex
X-PUBLISHED-TTL:PT1H
BEGIN:VTIMEZONE
TZID:UTC
BEGIN:STANDARD
TZOFFSETFROM:+0000
TZOFFSETTO:+0000
TZNAME:UTC
DTSTART:20140101T000000
END:STANDARD
END:VTIMEZONE
BEGIN:VEVENT
DTSTART;TZID=UTC:20140806T080000
DTEND;TZID=UTC:20140806T160000
DTSTAMP:20260419T122229
CREATED:20140407T170454Z
LAST-MODIFIED:20140407T170454Z
UID:1261-1407312000-1407340800@www.marginmanager.com
SUMMARY:Seminar: Strategic Position Management
DESCRIPTION:CIH CLIENTS ONLY \nThis one-day program is designed as a follow up on our popular Margin Management seminars to provide existing clients with further refinement in their decision making process. While identifying and capturing forward profit margin opportunities is an important first step in the margin management process\, managing positions over time is also a critical component in improving profitability. \nThis class explores the questions of when\, why and how to make strategic position adjustments over time to manage price volatility and increase flexibility in pricing decisions for both input costs and revenues. Best practices of effective position management will be discussed along with an in-depth focus of various considerations that go into making tactical adjustments to an initial position structure. \nVarious case studies will be presented to highlight the benefits of strategic position management\, and a dynamic group simulation will be conducted at the end of the day to tie together the concepts learned throughout the program. This comprehensive training event will allow you to leave with fresh ideas of how to improve your operation’s forward profitability.
URL:https://www.marginmanager.com/event/seminar-strategic-position-management/
LOCATION:CIH\, 120 South LaSalle St\, Suite 2200\, Chicago\, IL\, 60603\, United States
END:VEVENT
END:VCALENDAR