


BEGIN:VCALENDAR
VERSION:2.0
PRODID:-//Margin Manager - ECPv6.3.2//NONSGML v1.0//EN
CALSCALE:GREGORIAN
METHOD:PUBLISH
X-ORIGINAL-URL:https://www.marginmanager.com
X-WR-CALDESC:Events for Margin Manager
REFRESH-INTERVAL;VALUE=DURATION:PT1H
X-Robots-Tag:noindex
X-PUBLISHED-TTL:PT1H
BEGIN:VTIMEZONE
TZID:UTC
BEGIN:STANDARD
TZOFFSETFROM:+0000
TZOFFSETTO:+0000
TZNAME:UTC
DTSTART:20160101T000000
END:STANDARD
END:VTIMEZONE
BEGIN:VEVENT
DTSTART;VALUE=DATE:20161019
DTEND;VALUE=DATE:20161021
DTSTAMP:20260420T033043
CREATED:20140729T203947Z
LAST-MODIFIED:20160915T185851Z
UID:1468-1476835200-1477007999@www.marginmanager.com
SUMMARY:Lender Seminar
DESCRIPTION:This program is designed to help bankers better understand the risk associated with lending to agricultural producers. Appropriate for credit analysts\, loan officers and upper management\, this comprehensive two-day seminar includes the following topics:\n•	Futures market fundamentals\n•	How clients use options\, futures and cash alternatives\n•	Anticipating and managing the effect of margin calls\n•	Differentiating between hedging and speculating
URL:https://www.marginmanager.com/event/margin-management-for-lenders/
LOCATION:CIH\, 120 South LaSalle St\, Suite 2200\, Chicago\, IL\, 60603\, United States
END:VEVENT
END:VCALENDAR