


BEGIN:VCALENDAR
VERSION:2.0
PRODID:-//Margin Manager - ECPv6.3.2//NONSGML v1.0//EN
CALSCALE:GREGORIAN
METHOD:PUBLISH
X-ORIGINAL-URL:https://www.marginmanager.com
X-WR-CALDESC:Events for Margin Manager
REFRESH-INTERVAL;VALUE=DURATION:PT1H
X-Robots-Tag:noindex
X-PUBLISHED-TTL:PT1H
BEGIN:VTIMEZONE
TZID:UTC
BEGIN:STANDARD
TZOFFSETFROM:+0000
TZOFFSETTO:+0000
TZNAME:UTC
DTSTART:20160101T000000
END:STANDARD
END:VTIMEZONE
BEGIN:VEVENT
DTSTART;VALUE=DATE:20161110
DTEND;VALUE=DATE:20161111
DTSTAMP:20260420T052624
CREATED:20140908T152149Z
LAST-MODIFIED:20160915T185157Z
UID:1566-1478736000-1478822399@www.marginmanager.com
SUMMARY:Strategic Position Management
DESCRIPTION:FOR CIH CLIENTS ONLY \nThis advanced seminar is designed for clients who have effectively placed coverage and want a greater degree of control over long-term risk exposure and profitability. \nTopics covered:\n•	Identify triggers for strategic position changes\n•	Manage volatility of multiple inputs as well as revenues\n•	Weigh risk exposure of various position alternatives\n•	Emulate position-management best practices \nYou’ll learn sophisticated trading strategies from industry experts. Case studies and a dynamic simulation will deepen your understanding\, and give you the opportunity to test your knowledge and apply concepts learned.
URL:https://www.marginmanager.com/event/strategic-position-management/
LOCATION:CIH\, 120 South LaSalle St\, Suite 2200\, Chicago\, IL\, 60603\, United States
END:VEVENT
END:VCALENDAR