


BEGIN:VCALENDAR
VERSION:2.0
PRODID:-//Margin Manager - ECPv6.3.2//NONSGML v1.0//EN
CALSCALE:GREGORIAN
METHOD:PUBLISH
X-WR-CALNAME:Margin Manager
X-ORIGINAL-URL:https://www.marginmanager.com
X-WR-CALDESC:Events for Margin Manager
REFRESH-INTERVAL;VALUE=DURATION:PT1H
X-Robots-Tag:noindex
X-PUBLISHED-TTL:PT1H
BEGIN:VTIMEZONE
TZID:UTC
BEGIN:STANDARD
TZOFFSETFROM:+0000
TZOFFSETTO:+0000
TZNAME:UTC
DTSTART:20160101T000000
END:STANDARD
END:VTIMEZONE
BEGIN:VEVENT
DTSTART;VALUE=DATE:20161207
DTEND;VALUE=DATE:20161209
DTSTAMP:20260420T065917
CREATED:20141009T210325Z
LAST-MODIFIED:20161005T202622Z
UID:1611-1481068800-1481241599@www.marginmanager.com
SUMMARY:Dairy Margin Seminar
DESCRIPTION:The dairy margin management seminar is designed to help crop producers maximize their profit margins. Attendees will gain an understanding of how to utilize the full range of available contracting methods – including futures and options\, as well as cash contracts – to establish and maintain the risk/return balance that’s right for their specific operations.
URL:https://www.marginmanager.com/event/dairy-margin-seminar-2/
LOCATION:Crowne Plaza San Marcos Golf Resort\, One San Marco Place \, Chandler\, AZ\, 85225\, United States
END:VEVENT
END:VCALENDAR