


BEGIN:VCALENDAR
VERSION:2.0
PRODID:-//Margin Manager - ECPv6.3.2//NONSGML v1.0//EN
CALSCALE:GREGORIAN
METHOD:PUBLISH
X-WR-CALNAME:Margin Manager
X-ORIGINAL-URL:https://www.marginmanager.com
X-WR-CALDESC:Events for Margin Manager
REFRESH-INTERVAL;VALUE=DURATION:PT1H
X-Robots-Tag:noindex
X-PUBLISHED-TTL:PT1H
BEGIN:VTIMEZONE
TZID:UTC
BEGIN:STANDARD
TZOFFSETFROM:+0000
TZOFFSETTO:+0000
TZNAME:UTC
DTSTART:20160101T000000
END:STANDARD
END:VTIMEZONE
BEGIN:VEVENT
DTSTART;VALUE=DATE:20161214
DTEND;VALUE=DATE:20161216
DTSTAMP:20260420T070030
CREATED:20140729T204301Z
LAST-MODIFIED:20160915T185004Z
UID:1471-1481673600-1481846399@www.marginmanager.com
SUMMARY:Hog Margin Seminar
DESCRIPTION:The hog margin management seminar is designed to help hog producers maximize their profit margins by effectively utilizing the full range of available contracting methods. Attendees will gain an understanding of when\, how and why to use futures and options contracts to add flexibility to their marketing strategies.
URL:https://www.marginmanager.com/event/hog-margin-seminar/
LOCATION:CIH\, 120 South LaSalle St\, Suite 2200\, Chicago\, IL\, 60603\, United States
END:VEVENT
END:VCALENDAR